BEGIN:VCALENDAR
VERSION:2.0
PRODID:-//BPSDM PROVINSI KALIMANTAN TENGAH - ECPv6.15.20//NONSGML v1.0//EN
CALSCALE:GREGORIAN
METHOD:PUBLISH
X-WR-CALNAME:BPSDM PROVINSI KALIMANTAN TENGAH
X-ORIGINAL-URL:https://bpsdm.kalteng.go.id
X-WR-CALDESC:Events for BPSDM PROVINSI KALIMANTAN TENGAH
REFRESH-INTERVAL;VALUE=DURATION:PT1H
X-Robots-Tag:noindex
X-PUBLISHED-TTL:PT1H
BEGIN:VTIMEZONE
TZID:Asia/Jakarta
BEGIN:STANDARD
TZOFFSETFROM:+0700
TZOFFSETTO:+0700
TZNAME:WIB
DTSTART:20190101T000000
END:STANDARD
END:VTIMEZONE
BEGIN:VEVENT
DTSTART;TZID=Asia/Jakarta:20240923T080000
DTEND;TZID=Asia/Jakarta:20241009T170000
DTSTAMP:20260421T103759
CREATED:20240923T071927Z
LAST-MODIFIED:20240923T080513Z
UID:10261-1727078400-1728493200@bpsdm.kalteng.go.id
SUMMARY:Uji Kompetensi dan sertifikasi PBJP Lv. 1 tanggal 17 Oktober 2024 di Lingkungan Pemerintah Provinsi Kalteng.
DESCRIPTION:Pendaftaran Paling Lambat 9 Oktober 2024 melalui Tautan :s.id/ukom17oktober 
URL:https://bpsdm.kalteng.go.id/event/uji-kompetensi-dan-sertifikasi-pbjp-lv-1-tanggal-17-oktober-2024-di-lingkungan-pemerintah-provinsi-kalteng/
CATEGORIES:Teknis Umum dan Fungsional
ATTACH;FMTTYPE=image/jpeg:https://bpsdm.kalteng.go.id/wp-content/uploads/2024/09/Uji-Kompetensi-PBJ-Oktober-2024.jpg
END:VEVENT
BEGIN:VEVENT
DTSTART;TZID=Asia/Jakarta:20221017T080000
DTEND;TZID=Asia/Jakarta:20221021T170000
DTSTAMP:20260421T103759
CREATED:20220207T082646Z
LAST-MODIFIED:20220207T082646Z
UID:7035-1665993600-1666371600@bpsdm.kalteng.go.id
SUMMARY:Diklat Teknis Pranata Kehumasan
DESCRIPTION:
URL:https://bpsdm.kalteng.go.id/event/diklat-teknis-pranata-kehumasan/
CATEGORIES:Teknis Umum dan Fungsional
END:VEVENT
BEGIN:VEVENT
DTSTART;TZID=Asia/Jakarta:20220912T080000
DTEND;TZID=Asia/Jakarta:20220916T170000
DTSTAMP:20260421T103759
CREATED:20220207T082419Z
LAST-MODIFIED:20220207T082419Z
UID:7033-1662969600-1663347600@bpsdm.kalteng.go.id
SUMMARY:Diklat Teknis Pustakawan
DESCRIPTION:
URL:https://bpsdm.kalteng.go.id/event/diklat-teknis-pustakawan/
CATEGORIES:Teknis Umum dan Fungsional
END:VEVENT
BEGIN:VEVENT
DTSTART;TZID=Asia/Jakarta:20220822T080000
DTEND;TZID=Asia/Jakarta:20220826T170000
DTSTAMP:20260421T103759
CREATED:20220207T082245Z
LAST-MODIFIED:20220207T082245Z
UID:7031-1661155200-1661533200@bpsdm.kalteng.go.id
SUMMARY:Diklat Teknis Pranata Komputer
DESCRIPTION:
URL:https://bpsdm.kalteng.go.id/event/diklat-teknis-pranata-komputer/
CATEGORIES:Teknis Umum dan Fungsional
END:VEVENT
BEGIN:VEVENT
DTSTART;TZID=Asia/Jakarta:20220711T080000
DTEND;TZID=Asia/Jakarta:20220715T170000
DTSTAMP:20260421T103759
CREATED:20220207T082124Z
LAST-MODIFIED:20220207T082124Z
UID:7029-1657526400-1657904400@bpsdm.kalteng.go.id
SUMMARY:Diklat Kompetensi PBJP Level 1
DESCRIPTION:
URL:https://bpsdm.kalteng.go.id/event/diklat-kompetensi-pbjp-level-1/
LOCATION:BPSDM Prov Kalteng\, Jl. AIS Nasution\, Langkai\, Kec. Pahandut\, Palangka Raya\, Kalimantan Tengah\, Indonesia
CATEGORIES:Teknis Umum dan Fungsional
ORGANIZER;CN="BPSDM Prov Kalteng":MAILTO:info@bpsdmprovkalteng.id
END:VEVENT
BEGIN:VEVENT
DTSTART;TZID=Asia/Jakarta:20220613T080000
DTEND;TZID=Asia/Jakarta:20220617T170000
DTSTAMP:20260421T103759
CREATED:20220207T081958Z
LAST-MODIFIED:20220207T081958Z
UID:7027-1655107200-1655485200@bpsdm.kalteng.go.id
SUMMARY:Diklat Teknis Manajemen Pemerintahan Desa
DESCRIPTION:
URL:https://bpsdm.kalteng.go.id/event/diklat-teknis-manajemen-pemerintahan-desa/
CATEGORIES:Teknis Umum dan Fungsional
END:VEVENT
BEGIN:VEVENT
DTSTART;TZID=Asia/Jakarta:20220418T080000
DTEND;TZID=Asia/Jakarta:20220422T170000
DTSTAMP:20260421T103759
CREATED:20220207T081831Z
LAST-MODIFIED:20220207T081831Z
UID:7025-1650268800-1650646800@bpsdm.kalteng.go.id
SUMMARY:Diklat Teknis Analis Kepegawaian
DESCRIPTION:
URL:https://bpsdm.kalteng.go.id/event/diklat-teknis-analis-kepegawaian/
CATEGORIES:Teknis Umum dan Fungsional
END:VEVENT
BEGIN:VEVENT
DTSTART;TZID=Asia/Jakarta:20220314T080000
DTEND;TZID=Asia/Jakarta:20220318T170000
DTSTAMP:20260421T103759
CREATED:20220207T081716Z
LAST-MODIFIED:20220207T081716Z
UID:7023-1647244800-1647622800@bpsdm.kalteng.go.id
SUMMARY:Diklat Teknis Analis Anggaran
DESCRIPTION:
URL:https://bpsdm.kalteng.go.id/event/diklat-teknis-analis-anggaran/
LOCATION:BPSDM Prov Kalteng\, Jl. AIS Nasution\, Langkai\, Kec. Pahandut\, Palangka Raya\, Kalimantan Tengah\, Indonesia
CATEGORIES:Teknis Umum dan Fungsional
ORGANIZER;CN="BPSDM Prov Kalteng":MAILTO:info@bpsdmprovkalteng.id
END:VEVENT
BEGIN:VEVENT
DTSTART;TZID=Asia/Jakarta:20200616T080000
DTEND;TZID=Asia/Jakarta:20200622T150000
DTSTAMP:20260421T103759
CREATED:20200223T124225Z
LAST-MODIFIED:20200615T081942Z
UID:5648-1592294400-1592838000@bpsdm.kalteng.go.id
SUMMARY:Diklat Keuangan Daerah (E-Learning) Tahun 2020
DESCRIPTION:Sumber Pembiayaan APBD Murni / APBD Kontribusi : APBD Murni \nJumlah Peserta : 40 Orang \nPenanggung Jawab Kegiatan : Bidang Pengembangan Kompetensi Teknis Umum dan Fungsional \n \nRegistrasiBuku Panduan
URL:https://bpsdm.kalteng.go.id/event/diklat-keuangan-2020/
LOCATION:BPSDM Prov Kalteng\, Jl. AIS Nasution\, Langkai\, Kec. Pahandut\, Palangka Raya\, Kalimantan Tengah\, Indonesia
CATEGORIES:Teknis Umum dan Fungsional
ORGANIZER;CN="BPSDM Prov Kalteng":MAILTO:info@bpsdmprovkalteng.id
END:VEVENT
BEGIN:VEVENT
DTSTART;TZID=Asia/Jakarta:20200601T080000
DTEND;TZID=Asia/Jakarta:20200630T170000
DTSTAMP:20260421T103759
CREATED:20200223T125031Z
LAST-MODIFIED:20200223T125031Z
UID:5659-1590998400-1593536400@bpsdm.kalteng.go.id
SUMMARY:Diklat Teknis
DESCRIPTION:Sumber Pembiayaan APBD Murni / APBD Kontribusi : APBD Murni \nJumlah Peserta : 80 Orang \nPenanggung Jawab Kegiatan : Bidang Pengembangan Kompetensi Teknis Umum dan Fungsional \nRegistrasi Download Jadwal
URL:https://bpsdm.kalteng.go.id/event/diklat-teknis/
LOCATION:BPSDM Prov Kalteng\, Jl. AIS Nasution\, Langkai\, Kec. Pahandut\, Palangka Raya\, Kalimantan Tengah\, Indonesia
CATEGORIES:Teknis Umum dan Fungsional
ORGANIZER;CN="BPSDM Prov Kalteng":MAILTO:info@bpsdmprovkalteng.id
END:VEVENT
BEGIN:VEVENT
DTSTART;TZID=Asia/Jakarta:20200601T080000
DTEND;TZID=Asia/Jakarta:20200630T170000
DTSTAMP:20260421T103759
CREATED:20200223T124841Z
LAST-MODIFIED:20200223T124841Z
UID:5657-1590998400-1593536400@bpsdm.kalteng.go.id
SUMMARY:Workshop Inovasi
DESCRIPTION:Sumber Pembiayaan APBD Murni / APBD Kontribusi : APBD Murni \nJumlah Peserta : 40 Orang \nPenanggung Jawab Kegiatan : Bidang Sertifikasi Kompetenssi dan Pengelolaan Kelembagaan \nRegistrasi Download Jadwal
URL:https://bpsdm.kalteng.go.id/event/workshop-inovasi/
LOCATION:BPSDM Prov Kalteng\, Jl. AIS Nasution\, Langkai\, Kec. Pahandut\, Palangka Raya\, Kalimantan Tengah\, Indonesia
CATEGORIES:Teknis Umum dan Fungsional
ORGANIZER;CN="BPSDM Prov Kalteng":MAILTO:info@bpsdmprovkalteng.id
END:VEVENT
BEGIN:VEVENT
DTSTART;TZID=Asia/Jakarta:20200601T080000
DTEND;TZID=Asia/Jakarta:20200630T170000
DTSTAMP:20260421T103759
CREATED:20200223T124740Z
LAST-MODIFIED:20200223T124740Z
UID:5655-1590998400-1593536400@bpsdm.kalteng.go.id
SUMMARY:Workshop PMPRB (Penilaian Mandiri Pelaksanaan Reformasi Birokrasi)
DESCRIPTION:Sumber Pembiayaan APBD Murni / APBD Kontribusi : APBD Murni \nJumlah Peserta : 60 Orang \nPenanggung Jawab Kegiatan : Bidang Sertifikasi Kompetenssi dan Pengelolaan Kelembagaan \nRegistrasi Download Jadwal
URL:https://bpsdm.kalteng.go.id/event/workshop-pmprb-penilaian-mandiri-pelaksanaan-reformasi-birokrasi/
LOCATION:BPSDM Prov Kalteng\, Jl. AIS Nasution\, Langkai\, Kec. Pahandut\, Palangka Raya\, Kalimantan Tengah\, Indonesia
CATEGORIES:Teknis Umum dan Fungsional
ORGANIZER;CN="BPSDM Prov Kalteng":MAILTO:info@bpsdmprovkalteng.id
END:VEVENT
END:VCALENDAR