BEGIN:VCALENDAR
VERSION:2.0
PRODID:-//BPSDM PROVINSI KALIMANTAN TENGAH - ECPv6.15.20//NONSGML v1.0//EN
CALSCALE:GREGORIAN
METHOD:PUBLISH
X-WR-CALNAME:BPSDM PROVINSI KALIMANTAN TENGAH
X-ORIGINAL-URL:https://bpsdm.kalteng.go.id
X-WR-CALDESC:Events for BPSDM PROVINSI KALIMANTAN TENGAH
REFRESH-INTERVAL;VALUE=DURATION:PT1H
X-Robots-Tag:noindex
X-PUBLISHED-TTL:PT1H
BEGIN:VTIMEZONE
TZID:Asia/Jakarta
BEGIN:STANDARD
TZOFFSETFROM:+0700
TZOFFSETTO:+0700
TZNAME:WIB
DTSTART:20210101T000000
END:STANDARD
END:VTIMEZONE
BEGIN:VEVENT
DTSTART;TZID=Asia/Jakarta:20241028T080000
DTEND;TZID=Asia/Jakarta:20241028T163000
DTSTAMP:20260420T161919
CREATED:20241024T143846Z
LAST-MODIFIED:20241024T145027Z
UID:10480-1730102400-1730133000@bpsdm.kalteng.go.id
SUMMARY:Pelatihan Pengembangan Teknologi Perikanan di Lingkungan Pemerintah Provinsi Kalimantan Tengah
DESCRIPTION:
URL:https://bpsdm.kalteng.go.id/event/pelatihan-pengembangan-teknologi-perikanan-di-lingkungan-pemerintah-provinsi-kalimantan-tengah/
ORGANIZER;CN="BPSDM Prov Kalteng":MAILTO:info@bpsdmprovkalteng.id
END:VEVENT
BEGIN:VEVENT
DTSTART;TZID=Asia/Jakarta:20241025T080000
DTEND;TZID=Asia/Jakarta:20241025T170000
DTSTAMP:20260420T161919
CREATED:20241024T144534Z
LAST-MODIFIED:20241024T144922Z
UID:10486-1729843200-1729875600@bpsdm.kalteng.go.id
SUMMARY:Pelatihan Pemasaran dan Branding Pertanian di Lingkungan Pemerintah Provinsi Kalimantan Tengah
DESCRIPTION:
URL:https://bpsdm.kalteng.go.id/event/pelatihan-pemasaran-dan-branding-pertanian-di-lingkungan-pemerintah-provinsi-kalimantan-tengah/
ORGANIZER;CN="BPSDM Prov Kalteng":MAILTO:info@bpsdmprovkalteng.id
END:VEVENT
BEGIN:VEVENT
DTSTART;TZID=Asia/Jakarta:20240924T090000
DTEND;TZID=Asia/Jakarta:20240924T150000
DTSTAMP:20260420T161919
CREATED:20240922T084423Z
LAST-MODIFIED:20240922T085939Z
UID:10249-1727168400-1727190000@bpsdm.kalteng.go.id
SUMMARY:Program Pendidikan Antikorupsi Bagi Aparatur Sipil Negara dan Masyarakat di Lingkungan Provinsi Kalimantan Tengah.
DESCRIPTION:Hasil yang Ingin dicapai :\nProgram Pelatihan dan Seminar Antikorupsi Tematik ini bertujuan untuk mendukung upaya pemberantasan korupsi di Indonesia melalui:\n* Penguatan aspek integritas antikorupsi bagi peserta;\n* Terciptanya budaya antikorupsi yang meluas ke seluruh lapisan masyarakat. \nSeminar Antikorupsi Tematik bagi Perwakilan Masyarakat \n____\nHari/tanggal: Selasa\, tanggal 24 September 2024\nTempat : BPSDM Provinsi Kalimantan Tengah Pukul: 09.00 – 15.00 WIB\nPeserta: 70 peserta perwakilan masyarakat \nPelatihan Antikorupsi Tematik bagi ASN pada Lingkungan Prov. Kalteng\n____\nHari/tanggal: Rabu – Jumat\, 25 s.d. 27 September 2024\nTempat : BPSDM Provinsi Kalimantan Tengah Pukul: 09.00 – 16.00 WIB\nPeserta: 50 peserta ASN Provinsi Kalimantan Tengah
URL:https://bpsdm.kalteng.go.id/event/program-pendidikan-antikorupsi-bagi-aparatur-sipil-negara-dan-masyarakat-di-lingkungan-provinsi-kalimantan-tengah/
LOCATION:BPSDM Prov Kalteng\, Jl. AIS Nasution\, Langkai\, Kec. Pahandut\, Palangka Raya\, Kalimantan Tengah\, Indonesia
ATTACH;FMTTYPE=image/jpeg:https://bpsdm.kalteng.go.id/wp-content/uploads/2024/09/WhatsApp-Image-2024-09-22-at-06.59.09.jpeg
ORGANIZER;CN="BPSDM Prov Kalteng":MAILTO:info@bpsdmprovkalteng.id
END:VEVENT
BEGIN:VEVENT
DTSTART;TZID=Asia/Jakarta:20240923T080000
DTEND;TZID=Asia/Jakarta:20241009T170000
DTSTAMP:20260420T161919
CREATED:20240923T071927Z
LAST-MODIFIED:20240923T080513Z
UID:10261-1727078400-1728493200@bpsdm.kalteng.go.id
SUMMARY:Uji Kompetensi dan sertifikasi PBJP Lv. 1 tanggal 17 Oktober 2024 di Lingkungan Pemerintah Provinsi Kalteng.
DESCRIPTION:Pendaftaran Paling Lambat 9 Oktober 2024 melalui Tautan :s.id/ukom17oktober 
URL:https://bpsdm.kalteng.go.id/event/uji-kompetensi-dan-sertifikasi-pbjp-lv-1-tanggal-17-oktober-2024-di-lingkungan-pemerintah-provinsi-kalteng/
CATEGORIES:Teknis Umum dan Fungsional
ATTACH;FMTTYPE=image/jpeg:https://bpsdm.kalteng.go.id/wp-content/uploads/2024/09/Uji-Kompetensi-PBJ-Oktober-2024.jpg
END:VEVENT
BEGIN:VEVENT
DTSTART;TZID=Asia/Jakarta:20240308T080000
DTEND;TZID=Asia/Jakarta:20240308T130000
DTSTAMP:20260420T161919
CREATED:20240123T001644Z
LAST-MODIFIED:20240303T021707Z
UID:9269-1709884800-1709902800@bpsdm.kalteng.go.id
SUMMARY:Pengajian dan Silaturahmi Gubernur Kalimantan Tengah Beserta Istri Bersama Penceramah Ustadz Maulana (Khusus Muslimah) "Jum'at\, 8 Maret 2024 M\, Pukul 08.00 WIB di Istana Isen Mulang"
DESCRIPTION:
URL:https://bpsdm.kalteng.go.id/event/rapat-koordinasi/
LOCATION:Istana Isen Mulang
END:VEVENT
BEGIN:VEVENT
DTSTART;TZID=Asia/Jakarta:20230508T130000
DTEND;TZID=Asia/Jakarta:20230508T150000
DTSTAMP:20260420T161919
CREATED:20230508T044758Z
LAST-MODIFIED:20230508T060423Z
UID:7965-1683550800-1683558000@bpsdm.kalteng.go.id
SUMMARY:Workshop Inovasi Pasca Pelatihan Kepemimpinan dan Sosialisasi SINOPADIK Tahun 2023
DESCRIPTION:Halo Sobat ASN Harati\,\nDalam rangka meningkatkan nilai capaian indeks inovasi daerah serta\npersiapan keikutsertaan Provinsi Kalimantan Tengah dalam ajang Kompetisi Inovasi Pasca Pelatihan Kepemimpinan Administrator dan Kepemimpinan Pengawas (SINOPADIK) pada tahun 2023 yang akan diselenggarakan oleh Pusat Pelatihan dan Pengembangan dan Kajian Desentralisasi Otonomi Daerah LAN RI bekerjasama dengan BPSDM Provinsi Kalimantan Timur\, maka BPSDM Provinsi Kalimantan Tengah akan menyelenggarakan Workshop Inovasi Pasca Pelatihan Kepemimpinan dan sosialisasi SINOPADIK Tahun 2023 secara virtual melalui zoom meeting.\n•\n•\nMari bergabung dalam :\nWorkshop Inovasi Pasca Pelatihan Kepemimpinan dan Sosialisasi SINOPADIK Tahun 2023\n🗓️ Hari/Tanggal: Senin\, 08 Mei 2023\n⏰ Waktu : 13.00 WIB\n•\n•\nJoin Zoom Meeting :\nhttps://us06web.zoom.us/j/3200076127?pwd=ejc5TFZybnhVVTZwZWhnd3lFWUludz09\n• \nMeeting ID: 320 007 6127\nPasscode: BPSDM2023\n•\n•\nLebih dekat dengan BPSDM Kalteng\nhttps://linktr.ee/bpsdmprovkalteng \n#roadtoJIK2023 #asnberakhlak #banggamelayanibangsa #kaltengmakinberkah #BirokrasiBerkelasDunia #bpsdmprovkalteng #BPSDMMANTAP #KaltengCorporateUniversity #indonesiamaju
URL:https://bpsdm.kalteng.go.id/event/workshop-inovasi-pasca-pelatihan-kepemimpinan-dan-sosialisasi-sinopadik-tahun-2023/
CATEGORIES:Kompetensi,Manajerial,Sekretariat
END:VEVENT
BEGIN:VEVENT
DTSTART;TZID=Asia/Jakarta:20230316T080000
DTEND;TZID=Asia/Jakarta:20230620T170000
DTSTAMP:20260420T161919
CREATED:20230124T043040Z
LAST-MODIFIED:20240813T064943Z
UID:7782-1678953600-1687280400@bpsdm.kalteng.go.id
SUMMARY:Pelatihan Kepemimpinan Pengawas (PKP) Gelombang II
DESCRIPTION:
URL:https://bpsdm.kalteng.go.id/event/pelatihan-dasar-latsar-cpns-gelombang-ii/
LOCATION:BPSDM Prov Kalteng\, Jl. AIS Nasution\, Langkai\, Kec. Pahandut\, Palangka Raya\, Kalimantan Tengah\, Indonesia
CATEGORIES:Manajerial
ORGANIZER;CN="BPSDM Prov Kalteng":MAILTO:info@bpsdmprovkalteng.id
END:VEVENT
BEGIN:VEVENT
DTSTART;TZID=Asia/Jakarta:20230306T080000
DTEND;TZID=Asia/Jakarta:20230323T170000
DTSTAMP:20260420T161919
CREATED:20240613T061156Z
LAST-MODIFIED:20240613T061156Z
UID:9454-1678089600-1679590800@bpsdm.kalteng.go.id
SUMMARY:Diklat Dasar Manajemen Bencana
DESCRIPTION:
URL:https://bpsdm.kalteng.go.id/event/diklat-dasar-manajemen-bencana-2/
END:VEVENT
BEGIN:VEVENT
DTSTART;TZID=Asia/Jakarta:20230214T080000
DTEND;TZID=Asia/Jakarta:20230517T170000
DTSTAMP:20260420T161919
CREATED:20230124T041421Z
LAST-MODIFIED:20240813T063602Z
UID:7776-1676361600-1684342800@bpsdm.kalteng.go.id
SUMMARY:Pelatihan Kepemimpinan Nasional Tingkat II
DESCRIPTION:
URL:https://bpsdm.kalteng.go.id/event/pelatihan-dasar-latsar-cpns-gelombang-i/
LOCATION:BPSDM Prov Kalteng\, Jl. AIS Nasution\, Langkai\, Kec. Pahandut\, Palangka Raya\, Kalimantan Tengah\, Indonesia
CATEGORIES:Manajerial
ORGANIZER;CN="BPSDM Prov Kalteng":MAILTO:info@bpsdmprovkalteng.id
END:VEVENT
BEGIN:VEVENT
DTSTART;TZID=Asia/Jakarta:20230206T080000
DTEND;TZID=Asia/Jakarta:20230210T160000
DTSTAMP:20260420T161919
CREATED:20230208T013611Z
LAST-MODIFIED:20240813T071400Z
UID:7840-1675670400-1676044800@bpsdm.kalteng.go.id
SUMMARY:Pelatihan Penyusunan dan Reviu LPPD
DESCRIPTION:
URL:https://bpsdm.kalteng.go.id/event/pelatihan-penyusunan-dan-reviu-lppd/
ORGANIZER;CN="BPSDM Prov Kalteng":MAILTO:info@bpsdmprovkalteng.id
END:VEVENT
BEGIN:VEVENT
DTSTART;TZID=Asia/Jakarta:20230124T080000
DTEND;TZID=Asia/Jakarta:20230124T100000
DTSTAMP:20260420T161919
CREATED:20230124T054335Z
LAST-MODIFIED:20230124T070520Z
UID:7789-1674547200-1674554400@bpsdm.kalteng.go.id
SUMMARY:Pembukaan Pelatihan Dasar (Latsar) CPNS Tahun 2023
DESCRIPTION:di Buka oleh Gubernur Kalimantan Tengah\, yang diwakili oleh Staf Ahli Gubernur Kalimantan Tengah Bidang Ekonomi\, Keuangan dan Pembangunan Provinsi Kalimantan Tengah\, YUAS ELKO\, S.Sos.\, M.Si secara virtual melalui akun zoom meeting BPSDM Provinsi Kalimantan Tengah
URL:https://bpsdm.kalteng.go.id/event/pembukaan-pelatihan-dasar-latsar-cpns-tahun-2023/
LOCATION:BPSDM Prov Kalteng\, Jl. AIS Nasution\, Langkai\, Kec. Pahandut\, Palangka Raya\, Kalimantan Tengah\, Indonesia
CATEGORIES:Manajerial
ORGANIZER;CN="BPSDM Prov Kalteng":MAILTO:info@bpsdmprovkalteng.id
END:VEVENT
BEGIN:VEVENT
DTSTART;TZID=Asia/Jakarta:20230104T070000
DTEND;TZID=Asia/Jakarta:20230104T130000
DTSTAMP:20260420T161919
CREATED:20230124T055409Z
LAST-MODIFIED:20230124T070620Z
UID:7792-1672815600-1672837200@bpsdm.kalteng.go.id
SUMMARY:Fasilitator Outbound Sekretariat Daerah Prov. Kalteng
DESCRIPTION:BPSDM ditunjuk oleh Sekretariat Daerah Prov. Kalteng sebagai Fasilitator Outbound untuk Capacity Building seluruh Aparatur di lingkungan Sekretariat Daerah Prov. Kalteng di Kawasan Bumi Perkemahan Nyaru Menteng.
URL:https://bpsdm.kalteng.go.id/event/fasilitator-outbound-sekretariat-daerah-prov-kalteng/
LOCATION:Bumi Perkemahan Nyaru Menteng
CATEGORIES:Sekretariat
END:VEVENT
BEGIN:VEVENT
DTSTART;TZID=Asia/Jakarta:20221017T080000
DTEND;TZID=Asia/Jakarta:20221021T170000
DTSTAMP:20260420T161919
CREATED:20220207T082646Z
LAST-MODIFIED:20220207T082646Z
UID:7035-1665993600-1666371600@bpsdm.kalteng.go.id
SUMMARY:Diklat Teknis Pranata Kehumasan
DESCRIPTION:
URL:https://bpsdm.kalteng.go.id/event/diklat-teknis-pranata-kehumasan/
CATEGORIES:Teknis Umum dan Fungsional
END:VEVENT
BEGIN:VEVENT
DTSTART;TZID=Asia/Jakarta:20220912T080000
DTEND;TZID=Asia/Jakarta:20220916T170000
DTSTAMP:20260420T161919
CREATED:20220207T082419Z
LAST-MODIFIED:20220207T082419Z
UID:7033-1662969600-1663347600@bpsdm.kalteng.go.id
SUMMARY:Diklat Teknis Pustakawan
DESCRIPTION:
URL:https://bpsdm.kalteng.go.id/event/diklat-teknis-pustakawan/
CATEGORIES:Teknis Umum dan Fungsional
END:VEVENT
BEGIN:VEVENT
DTSTART;TZID=Asia/Jakarta:20220905T080000
DTEND;TZID=Asia/Jakarta:20220906T170000
DTSTAMP:20260420T161919
CREATED:20220207T081527Z
LAST-MODIFIED:20220207T081527Z
UID:7021-1662364800-1662483600@bpsdm.kalteng.go.id
SUMMARY:Workshop Pengelola Koperasi ASN
DESCRIPTION:
URL:https://bpsdm.kalteng.go.id/event/workshop-pengelola-koperasi-asn/
LOCATION:BPSDM Prov Kalteng\, Jl. AIS Nasution\, Langkai\, Kec. Pahandut\, Palangka Raya\, Kalimantan Tengah\, Indonesia
CATEGORIES:Teknis Inti
ORGANIZER;CN="BPSDM Prov Kalteng":MAILTO:info@bpsdmprovkalteng.id
END:VEVENT
BEGIN:VEVENT
DTSTART;TZID=Asia/Jakarta:20220822T080000
DTEND;TZID=Asia/Jakarta:20220826T170000
DTSTAMP:20260420T161919
CREATED:20220207T082245Z
LAST-MODIFIED:20220207T082245Z
UID:7031-1661155200-1661533200@bpsdm.kalteng.go.id
SUMMARY:Diklat Teknis Pranata Komputer
DESCRIPTION:
URL:https://bpsdm.kalteng.go.id/event/diklat-teknis-pranata-komputer/
CATEGORIES:Teknis Umum dan Fungsional
END:VEVENT
BEGIN:VEVENT
DTSTART;TZID=Asia/Jakarta:20220801T080000
DTEND;TZID=Asia/Jakarta:20220810T170000
DTSTAMP:20260420T161919
CREATED:20220207T081421Z
LAST-MODIFIED:20220207T081421Z
UID:7019-1659340800-1660150800@bpsdm.kalteng.go.id
SUMMARY:Pelatihan Dasar Satpol PP
DESCRIPTION:
URL:https://bpsdm.kalteng.go.id/event/pelatihan-dasar-satpol-pp/
LOCATION:BPSDM Prov Kalteng\, Jl. AIS Nasution\, Langkai\, Kec. Pahandut\, Palangka Raya\, Kalimantan Tengah\, Indonesia
CATEGORIES:Teknis Inti
ORGANIZER;CN="BPSDM Prov Kalteng":MAILTO:info@bpsdmprovkalteng.id
END:VEVENT
BEGIN:VEVENT
DTSTART;TZID=Asia/Jakarta:20220718T080000
DTEND;TZID=Asia/Jakarta:20220722T170000
DTSTAMP:20260420T161919
CREATED:20220207T081323Z
LAST-MODIFIED:20220207T081323Z
UID:7017-1658131200-1658509200@bpsdm.kalteng.go.id
SUMMARY:Diklat Analis Kebutuhan Diklat
DESCRIPTION:
URL:https://bpsdm.kalteng.go.id/event/diklat-analis-kebutuhan-diklat/
LOCATION:BPSDM Prov Kalteng\, Jl. AIS Nasution\, Langkai\, Kec. Pahandut\, Palangka Raya\, Kalimantan Tengah\, Indonesia
CATEGORIES:Teknis Inti
ORGANIZER;CN="BPSDM Prov Kalteng":MAILTO:info@bpsdmprovkalteng.id
END:VEVENT
BEGIN:VEVENT
DTSTART;TZID=Asia/Jakarta:20220711T080000
DTEND;TZID=Asia/Jakarta:20220715T170000
DTSTAMP:20260420T161919
CREATED:20220207T082124Z
LAST-MODIFIED:20220207T082124Z
UID:7029-1657526400-1657904400@bpsdm.kalteng.go.id
SUMMARY:Diklat Kompetensi PBJP Level 1
DESCRIPTION:
URL:https://bpsdm.kalteng.go.id/event/diklat-kompetensi-pbjp-level-1/
LOCATION:BPSDM Prov Kalteng\, Jl. AIS Nasution\, Langkai\, Kec. Pahandut\, Palangka Raya\, Kalimantan Tengah\, Indonesia
CATEGORIES:Teknis Umum dan Fungsional
ORGANIZER;CN="BPSDM Prov Kalteng":MAILTO:info@bpsdmprovkalteng.id
END:VEVENT
BEGIN:VEVENT
DTSTART;TZID=Asia/Jakarta:20220621T080000
DTEND;TZID=Asia/Jakarta:20220622T170000
DTSTAMP:20260420T161919
CREATED:20220207T081224Z
LAST-MODIFIED:20220207T081224Z
UID:7015-1655798400-1655917200@bpsdm.kalteng.go.id
SUMMARY:Workshop Perpustakaan Berbasis Teknologi Informasi
DESCRIPTION:
URL:https://bpsdm.kalteng.go.id/event/workshop-perpustakaan-berbasis-teknologi-informasi/
LOCATION:BPSDM Prov Kalteng\, Jl. AIS Nasution\, Langkai\, Kec. Pahandut\, Palangka Raya\, Kalimantan Tengah\, Indonesia
CATEGORIES:Teknis Inti
ORGANIZER;CN="BPSDM Prov Kalteng":MAILTO:info@bpsdmprovkalteng.id
END:VEVENT
BEGIN:VEVENT
DTSTART;TZID=Asia/Jakarta:20220613T080000
DTEND;TZID=Asia/Jakarta:20220617T170000
DTSTAMP:20260420T161919
CREATED:20220207T081958Z
LAST-MODIFIED:20220207T081958Z
UID:7027-1655107200-1655485200@bpsdm.kalteng.go.id
SUMMARY:Diklat Teknis Manajemen Pemerintahan Desa
DESCRIPTION:
URL:https://bpsdm.kalteng.go.id/event/diklat-teknis-manajemen-pemerintahan-desa/
CATEGORIES:Teknis Umum dan Fungsional
END:VEVENT
BEGIN:VEVENT
DTSTART;TZID=Asia/Jakarta:20220606T080000
DTEND;TZID=Asia/Jakarta:20220613T170000
DTSTAMP:20260420T161919
CREATED:20220207T081106Z
LAST-MODIFIED:20220207T081106Z
UID:7013-1654502400-1655139600@bpsdm.kalteng.go.id
SUMMARY:Diklat Kaji Cepat Bencana
DESCRIPTION:
URL:https://bpsdm.kalteng.go.id/event/diklat-kaji-cepat-bencana/
LOCATION:BPSDM Prov Kalteng\, Jl. AIS Nasution\, Langkai\, Kec. Pahandut\, Palangka Raya\, Kalimantan Tengah\, Indonesia
CATEGORIES:Teknis Inti
ORGANIZER;CN="BPSDM Prov Kalteng":MAILTO:info@bpsdmprovkalteng.id
END:VEVENT
BEGIN:VEVENT
DTSTART;TZID=Asia/Jakarta:20220524T080000
DTEND;TZID=Asia/Jakarta:20220525T170000
DTSTAMP:20260420T161919
CREATED:20220207T080951Z
LAST-MODIFIED:20220207T080951Z
UID:7011-1653379200-1653498000@bpsdm.kalteng.go.id
SUMMARY:Workshop Komunikasi dan Presentasi yang Efektif
DESCRIPTION:
URL:https://bpsdm.kalteng.go.id/event/workshop-komunikasi-dan-presentasi-yang-efektif/
CATEGORIES:Teknis Inti
END:VEVENT
BEGIN:VEVENT
DTSTART;TZID=Asia/Jakarta:20220518T080000
DTEND;TZID=Asia/Jakarta:20220519T170000
DTSTAMP:20260420T161919
CREATED:20220207T080841Z
LAST-MODIFIED:20220207T080841Z
UID:7009-1652860800-1652979600@bpsdm.kalteng.go.id
SUMMARY:Workshop Kesiapsiagaan Bencana
DESCRIPTION:
URL:https://bpsdm.kalteng.go.id/event/workshop-kesiapsiagaan-bencana/
LOCATION:BPSDM Prov Kalteng\, Jl. AIS Nasution\, Langkai\, Kec. Pahandut\, Palangka Raya\, Kalimantan Tengah\, Indonesia
CATEGORIES:Teknis Inti
ORGANIZER;CN="BPSDM Prov Kalteng":MAILTO:info@bpsdmprovkalteng.id
END:VEVENT
BEGIN:VEVENT
DTSTART;TZID=Asia/Jakarta:20220418T080000
DTEND;TZID=Asia/Jakarta:20220422T170000
DTSTAMP:20260420T161919
CREATED:20220207T081831Z
LAST-MODIFIED:20220207T081831Z
UID:7025-1650268800-1650646800@bpsdm.kalteng.go.id
SUMMARY:Diklat Teknis Analis Kepegawaian
DESCRIPTION:
URL:https://bpsdm.kalteng.go.id/event/diklat-teknis-analis-kepegawaian/
CATEGORIES:Teknis Umum dan Fungsional
END:VEVENT
BEGIN:VEVENT
DTSTART;TZID=Asia/Jakarta:20220404T080000
DTEND;TZID=Asia/Jakarta:20220408T170000
DTSTAMP:20260420T161919
CREATED:20220207T080442Z
LAST-MODIFIED:20220207T080442Z
UID:7006-1649059200-1649437200@bpsdm.kalteng.go.id
SUMMARY:Pelatihan Teknis Pengelolaan Arsip
DESCRIPTION:
URL:https://bpsdm.kalteng.go.id/event/pelatihan-teknis-pengelolaan-arsip/
LOCATION:BPSDM Prov Kalteng\, Jl. AIS Nasution\, Langkai\, Kec. Pahandut\, Palangka Raya\, Kalimantan Tengah\, Indonesia
CATEGORIES:Teknis Inti
ORGANIZER;CN="BPSDM Prov Kalteng":MAILTO:info@bpsdmprovkalteng.id
END:VEVENT
BEGIN:VEVENT
DTSTART;TZID=Asia/Jakarta:20220323T080000
DTEND;TZID=Asia/Jakarta:20220324T170000
DTSTAMP:20260420T161919
CREATED:20220207T075937Z
LAST-MODIFIED:20220207T080012Z
UID:7004-1648022400-1648141200@bpsdm.kalteng.go.id
SUMMARY:Workshop Penyusunan Naskah Pidato Pimpinan
DESCRIPTION:
URL:https://bpsdm.kalteng.go.id/event/workshop-penyusunan-naskah-pidato-pimpinan/
LOCATION:BPSDM Prov Kalteng\, Jl. AIS Nasution\, Langkai\, Kec. Pahandut\, Palangka Raya\, Kalimantan Tengah\, Indonesia
CATEGORIES:Teknis Inti
ORGANIZER;CN="BPSDM Prov Kalteng":MAILTO:info@bpsdmprovkalteng.id
END:VEVENT
BEGIN:VEVENT
DTSTART;TZID=Asia/Jakarta:20220316T080000
DTEND;TZID=Asia/Jakarta:20220324T170000
DTSTAMP:20260420T161919
CREATED:20200220T152027Z
LAST-MODIFIED:20230124T023553Z
UID:5561-1647417600-1648141200@bpsdm.kalteng.go.id
SUMMARY:PELATIHAN DASAR (LATSAR) CPNS 2023
DESCRIPTION:Registrasi
URL:https://bpsdm.kalteng.go.id/event/diklat-penyusunan-renja/
LOCATION:BPSDM Prov Kalteng\, Jl. AIS Nasution\, Langkai\, Kec. Pahandut\, Palangka Raya\, Kalimantan Tengah\, Indonesia
CATEGORIES:Manajerial
ORGANIZER;CN="BPSDM Prov Kalteng":MAILTO:info@bpsdmprovkalteng.id
END:VEVENT
BEGIN:VEVENT
DTSTART;TZID=Asia/Jakarta:20220314T080000
DTEND;TZID=Asia/Jakarta:20220321T170000
DTSTAMP:20260420T161919
CREATED:20220207T075810Z
LAST-MODIFIED:20220207T080039Z
UID:7002-1647244800-1647882000@bpsdm.kalteng.go.id
SUMMARY:Diklat Penyusunan Perencanaan Kontigensi
DESCRIPTION:
URL:https://bpsdm.kalteng.go.id/event/diklat-penyusunan-perencanaan-kontigensi/
LOCATION:BPSDM Prov Kalteng\, Jl. AIS Nasution\, Langkai\, Kec. Pahandut\, Palangka Raya\, Kalimantan Tengah\, Indonesia
CATEGORIES:Teknis Inti
ORGANIZER;CN="BPSDM Prov Kalteng":MAILTO:info@bpsdmprovkalteng.id
END:VEVENT
BEGIN:VEVENT
DTSTART;TZID=Asia/Jakarta:20220314T080000
DTEND;TZID=Asia/Jakarta:20220318T170000
DTSTAMP:20260420T161919
CREATED:20220207T081716Z
LAST-MODIFIED:20220207T081716Z
UID:7023-1647244800-1647622800@bpsdm.kalteng.go.id
SUMMARY:Diklat Teknis Analis Anggaran
DESCRIPTION:
URL:https://bpsdm.kalteng.go.id/event/diklat-teknis-analis-anggaran/
LOCATION:BPSDM Prov Kalteng\, Jl. AIS Nasution\, Langkai\, Kec. Pahandut\, Palangka Raya\, Kalimantan Tengah\, Indonesia
CATEGORIES:Teknis Umum dan Fungsional
ORGANIZER;CN="BPSDM Prov Kalteng":MAILTO:info@bpsdmprovkalteng.id
END:VEVENT
END:VCALENDAR