BEGIN:VCALENDAR
VERSION:2.0
PRODID:-//BPSDM PROVINSI KALIMANTAN TENGAH - ECPv6.15.20//NONSGML v1.0//EN
CALSCALE:GREGORIAN
METHOD:PUBLISH
X-ORIGINAL-URL:https://bpsdm.kalteng.go.id
X-WR-CALDESC:Events for BPSDM PROVINSI KALIMANTAN TENGAH
REFRESH-INTERVAL;VALUE=DURATION:PT1H
X-Robots-Tag:noindex
X-PUBLISHED-TTL:PT1H
BEGIN:VTIMEZONE
TZID:Asia/Jakarta
BEGIN:STANDARD
TZOFFSETFROM:+0700
TZOFFSETTO:+0700
TZNAME:WIB
DTSTART:20190101T000000
END:STANDARD
END:VTIMEZONE
BEGIN:VEVENT
DTSTART;TZID=Asia/Jakarta:20210426T080000
DTEND;TZID=Asia/Jakarta:20210430T170000
DTSTAMP:20260421T093744
CREATED:20210420T034127Z
LAST-MODIFIED:20210907T035152Z
UID:6672-1619424000-1619802000@bpsdm.kalteng.go.id
SUMMARY:Diklat P4GN (Pencegahan dan Pemberantasan Penyalahgunaan dan Peredaran Gelap Narkotika)
DESCRIPTION:
URL:https://bpsdm.kalteng.go.id/event/diklat-p4gn-pencegahan-dan-pemberantasan-penyalahgunaan-dan-peredaran-gelap-narkotika/
CATEGORIES:Teknis Inti
END:VEVENT
BEGIN:VEVENT
DTSTART;TZID=Asia/Jakarta:20210421T080000
DTEND;TZID=Asia/Jakarta:20210425T170000
DTSTAMP:20260421T093744
CREATED:20210420T032601Z
LAST-MODIFIED:20210907T032705Z
UID:6658-1618992000-1619370000@bpsdm.kalteng.go.id
SUMMARY:Diklat Tata Naskah Dinas
DESCRIPTION:
URL:https://bpsdm.kalteng.go.id/event/diklat-tata-naskah-dinas/
CATEGORIES:Teknis Inti
END:VEVENT
BEGIN:VEVENT
DTSTART;TZID=Asia/Jakarta:20210419T080000
DTEND;TZID=Asia/Jakarta:20210423T170000
DTSTAMP:20260421T093744
CREATED:20210415T032401Z
LAST-MODIFIED:20210907T032519Z
UID:6656-1618819200-1619197200@bpsdm.kalteng.go.id
SUMMARY:Diklat Perencanaan Pembangunan Daerah
DESCRIPTION:
URL:https://bpsdm.kalteng.go.id/event/diklat-perencanaan-pembangunan-daerah/
CATEGORIES:Teknis Inti
END:VEVENT
BEGIN:VEVENT
DTSTART;TZID=Asia/Jakarta:20210323T080000
DTEND;TZID=Asia/Jakarta:20210628T170000
DTSTAMP:20260421T093744
CREATED:20210301T030406Z
LAST-MODIFIED:20210907T032341Z
UID:6634-1616486400-1624899600@bpsdm.kalteng.go.id
SUMMARY:Pelatihan Kepemimpinan Pengawas (PKP)
DESCRIPTION:
URL:https://bpsdm.kalteng.go.id/event/pelatihan-kepemimpinan-pengawas-pkp/
CATEGORIES:Manajerial
END:VEVENT
BEGIN:VEVENT
DTSTART;TZID=Asia/Jakarta:20210224T080000
DTEND;TZID=Asia/Jakarta:20210428T170000
DTSTAMP:20260421T093744
CREATED:20210907T030129Z
LAST-MODIFIED:20210907T031815Z
UID:6631-1614153600-1619629200@bpsdm.kalteng.go.id
SUMMARY:Pelatihan Dasar (LATSAR) CPNS Klasikal
DESCRIPTION:
URL:https://bpsdm.kalteng.go.id/event/pelatihan-dasar-latsar-cpns-klasikal/
CATEGORIES:Manajerial
END:VEVENT
BEGIN:VEVENT
DTSTART;TZID=Asia/Jakarta:20201022T080000
DTEND;TZID=Asia/Jakarta:20201221T170000
DTSTAMP:20260421T093744
CREATED:20200223T131121Z
LAST-MODIFIED:20200223T131121Z
UID:5679-1603353600-1608570000@bpsdm.kalteng.go.id
SUMMARY:PELATIHAN DASAR CPNS GOLONGAN III ANGKATAN X DAN GOLONGAN II ANGKATAN VIII
DESCRIPTION:Sumber Pembiayaan APBD Murni / APBD Kontribusi : APBD Kontribusi \nJumlah Peserta : 400 Orang \nPenanggung Jawab Kegiatan : Bidang Pengembangan Kompetensi Managerial \nRegistrasi Download Jadwal
URL:https://bpsdm.kalteng.go.id/event/pelatihan-dasar-cpns-golongan-iii-angkatan-x-dan-golongan-ii-angkatan-viii/
LOCATION:BPSDM Prov Kalteng\, Jl. AIS Nasution\, Langkai\, Kec. Pahandut\, Palangka Raya\, Kalimantan Tengah\, Indonesia
CATEGORIES:Manajerial
ORGANIZER;CN="BPSDM Prov Kalteng":MAILTO:info@bpsdmprovkalteng.id
END:VEVENT
BEGIN:VEVENT
DTSTART;TZID=Asia/Jakarta:20201012T080000
DTEND;TZID=Asia/Jakarta:20201016T170000
DTSTAMP:20260421T093744
CREATED:20200223T131004Z
LAST-MODIFIED:20200223T131004Z
UID:5677-1602489600-1602867600@bpsdm.kalteng.go.id
SUMMARY:Diklat Manajemen PNS
DESCRIPTION:Sumber Pembiayaan APBD Murni / APBD Kontribusi : APBD Murni \nJumlah Peserta : 40 Orang \nPenanggung Jawab Kegiatan : Bidang Pengembangan Kompetensi Teknis Inti \nRegistrasi Download Jadwal
URL:https://bpsdm.kalteng.go.id/event/diklat-manajemen-pns/
LOCATION:BPSDM Prov Kalteng\, Jl. AIS Nasution\, Langkai\, Kec. Pahandut\, Palangka Raya\, Kalimantan Tengah\, Indonesia
CATEGORIES:Teknis Inti
ORGANIZER;CN="BPSDM Prov Kalteng":MAILTO:info@bpsdmprovkalteng.id
END:VEVENT
BEGIN:VEVENT
DTSTART;TZID=Asia/Jakarta:20200916T080000
DTEND;TZID=Asia/Jakarta:20200926T170000
DTSTAMP:20260421T093744
CREATED:20200223T130858Z
LAST-MODIFIED:20200223T130858Z
UID:5675-1600243200-1601139600@bpsdm.kalteng.go.id
SUMMARY:DIKLAT PENGADAAN BARANG & JASA
DESCRIPTION:Sumber Pembiayaan APBD Murni / APBD Kontribusi : APBD Kontribusi \nJumlah Peserta : 30 Orang \nPenanggung Jawab Kegiatan : Bidang Pengembangan Kompetensi Teknis Inti \nRegistrasi Download Jadwal
URL:https://bpsdm.kalteng.go.id/event/diklat-pengadaan-barang-jasa-2/
LOCATION:BPSDM Prov Kalteng\, Jl. AIS Nasution\, Langkai\, Kec. Pahandut\, Palangka Raya\, Kalimantan Tengah\, Indonesia
CATEGORIES:Teknis Inti
ORGANIZER;CN="BPSDM Prov Kalteng":MAILTO:info@bpsdmprovkalteng.id
END:VEVENT
BEGIN:VEVENT
DTSTART;TZID=Asia/Jakarta:20200914T080000
DTEND;TZID=Asia/Jakarta:20201116T170000
DTSTAMP:20260421T093744
CREATED:20200223T130751Z
LAST-MODIFIED:20200223T130751Z
UID:5673-1600070400-1605546000@bpsdm.kalteng.go.id
SUMMARY:PELATIHAN DASAR CPNS GOLONGAN III ANGKATAN IX DAN GOLONGAN II ANGKATAN VII
DESCRIPTION:Sumber Pembiayaan APBD Murni / APBD Kontribusi : APBD Kontribusi \nJumlah Peserta : 400 Orang \nPenanggung Jawab Kegiatan : Bidang Pengembangan Kompetensi Managerial \nRegistrasi Download Jadwal
URL:https://bpsdm.kalteng.go.id/event/pelatihan-dasar-cpns-golongan-iii-angkatan-ix-dan-golongan-ii-angkatan-vii/
LOCATION:BPSDM Prov Kalteng\, Jl. AIS Nasution\, Langkai\, Kec. Pahandut\, Palangka Raya\, Kalimantan Tengah\, Indonesia
CATEGORIES:Manajerial
ORGANIZER;CN="BPSDM Prov Kalteng":MAILTO:info@bpsdmprovkalteng.id
END:VEVENT
BEGIN:VEVENT
DTSTART;TZID=Asia/Jakarta:20200824T080000
DTEND;TZID=Asia/Jakarta:20201021T170000
DTSTAMP:20260421T093744
CREATED:20200223T130625Z
LAST-MODIFIED:20200223T130625Z
UID:5671-1598256000-1603299600@bpsdm.kalteng.go.id
SUMMARY:PELATIHAN DASAR CPNS GOLONGAN III ANGKATAN VIII DAN GOLONGAN II ANGKATAN VI
DESCRIPTION:Sumber Pembiayaan APBD Murni / APBD Kontribusi : APBD Murni + Kontribusi \nJumlah Peserta : 400 Orang \nPenanggung Jawab Kegiatan : Bidang Pengembangan Kompetensi Managerial \nRegistrasi Download Jadwal
URL:https://bpsdm.kalteng.go.id/event/pelatihan-dasar-cpns-golongan-iii-angkatan-viii-dan-golongan-ii-angkatan-vi/
LOCATION:BPSDM Prov Kalteng\, Jl. AIS Nasution\, Langkai\, Kec. Pahandut\, Palangka Raya\, Kalimantan Tengah\, Indonesia
CATEGORIES:Manajerial
ORGANIZER;CN="BPSDM Prov Kalteng":MAILTO:info@bpsdmprovkalteng.id
END:VEVENT
BEGIN:VEVENT
DTSTART;TZID=Asia/Jakarta:20200810T080000
DTEND;TZID=Asia/Jakarta:20201209T170000
DTSTAMP:20260421T093744
CREATED:20200223T130432Z
LAST-MODIFIED:20200223T130432Z
UID:5669-1597046400-1607533200@bpsdm.kalteng.go.id
SUMMARY:Pelatihan Kepemimpinan Pengawas (PKP) Angkatan IV dan V
DESCRIPTION:Sumber Pembiayaan APBD Murni / APBD Kontribusi : APBD Kontribusi \nJumlah Peserta : 80 Orang \nPenanggung Jawab Kegiatan : Bidang Pengembangan Kompetensi Managerial \nRegistrasi Download Jadwal
URL:https://bpsdm.kalteng.go.id/event/pelatihan-kepemimpinan-pengawas-pkp-angkatan-iv-dan-v/
LOCATION:BPSDM Prov Kalteng\, Jl. AIS Nasution\, Langkai\, Kec. Pahandut\, Palangka Raya\, Kalimantan Tengah\, Indonesia
CATEGORIES:Manajerial
ORGANIZER;CN="BPSDM Prov Kalteng":MAILTO:info@bpsdmprovkalteng.id
END:VEVENT
BEGIN:VEVENT
DTSTART;TZID=Asia/Jakarta:20200803T080000
DTEND;TZID=Asia/Jakarta:20200807T170000
DTSTAMP:20260421T093744
CREATED:20200223T130251Z
LAST-MODIFIED:20200223T130251Z
UID:5667-1596441600-1596819600@bpsdm.kalteng.go.id
SUMMARY:Diklat Dasar Manajemen Bencana
DESCRIPTION:Sumber Pembiayaan APBD Murni / APBD Kontribusi : APBD Murni \nJumlah Peserta : 40 Orang \nPenanggung Jawab Kegiatan : Bidang Pengembangan Kompetensi Teknis Inti \nRegistrasi Download Jadwal
URL:https://bpsdm.kalteng.go.id/event/diklat-dasar-manajemen-bencana/
LOCATION:BPSDM Prov Kalteng\, Jl. AIS Nasution\, Langkai\, Kec. Pahandut\, Palangka Raya\, Kalimantan Tengah\, Indonesia
CATEGORIES:Teknis Inti
ORGANIZER;CN="BPSDM Prov Kalteng":MAILTO:info@bpsdmprovkalteng.id
END:VEVENT
BEGIN:VEVENT
DTSTART;TZID=Asia/Jakarta:20200715T080000
DTEND;TZID=Asia/Jakarta:20200725T170000
DTSTAMP:20260421T093744
CREATED:20200223T130143Z
LAST-MODIFIED:20200223T130143Z
UID:5665-1594800000-1595696400@bpsdm.kalteng.go.id
SUMMARY:DIKLAT PENGADAAN BARANG & JASA
DESCRIPTION:Sumber Pembiayaan APBD Murni / APBD Kontribusi : APBD Murni \nJumlah Peserta : 40 Orang \nPenanggung Jawab Kegiatan : Bidang Pengembangan Kompetensi Teknis Inti \nRegistrasi Download Jadwal
URL:https://bpsdm.kalteng.go.id/event/diklat-pengadaan-barang-jasa/
LOCATION:BPSDM Prov Kalteng\, Jl. AIS Nasution\, Langkai\, Kec. Pahandut\, Palangka Raya\, Kalimantan Tengah\, Indonesia
CATEGORIES:Teknis Inti
ORGANIZER;CN="BPSDM Prov Kalteng":MAILTO:info@bpsdmprovkalteng.id
END:VEVENT
BEGIN:VEVENT
DTSTART;TZID=Asia/Jakarta:20200713T080000
DTEND;TZID=Asia/Jakarta:20200717T170000
DTSTAMP:20260421T093744
CREATED:20200223T125405Z
LAST-MODIFIED:20200223T125405Z
UID:5663-1594627200-1595005200@bpsdm.kalteng.go.id
SUMMARY:DIKLAT KEPROTOKOLAN
DESCRIPTION:Sumber Pembiayaan APBD Murni / APBD Kontribusi : APBD Kontribusi \nJumlah Peserta : 30 Orang \nPenanggung Jawab Kegiatan : Bidang Pengembangan Kompetensi Teknis Inti \nRegistrasi Download Jadwal
URL:https://bpsdm.kalteng.go.id/event/diklat-keprotokolan/
LOCATION:BPSDM Prov Kalteng\, Jl. AIS Nasution\, Langkai\, Kec. Pahandut\, Palangka Raya\, Kalimantan Tengah\, Indonesia
CATEGORIES:Teknis Inti
ORGANIZER;CN="BPSDM Prov Kalteng":MAILTO:info@bpsdmprovkalteng.id
END:VEVENT
BEGIN:VEVENT
DTSTART;TZID=Asia/Jakarta:20200616T080000
DTEND;TZID=Asia/Jakarta:20200622T150000
DTSTAMP:20260421T093744
CREATED:20200223T124225Z
LAST-MODIFIED:20200615T081942Z
UID:5648-1592294400-1592838000@bpsdm.kalteng.go.id
SUMMARY:Diklat Keuangan Daerah (E-Learning) Tahun 2020
DESCRIPTION:Sumber Pembiayaan APBD Murni / APBD Kontribusi : APBD Murni \nJumlah Peserta : 40 Orang \nPenanggung Jawab Kegiatan : Bidang Pengembangan Kompetensi Teknis Umum dan Fungsional \n \nRegistrasiBuku Panduan
URL:https://bpsdm.kalteng.go.id/event/diklat-keuangan-2020/
LOCATION:BPSDM Prov Kalteng\, Jl. AIS Nasution\, Langkai\, Kec. Pahandut\, Palangka Raya\, Kalimantan Tengah\, Indonesia
CATEGORIES:Teknis Umum dan Fungsional
ORGANIZER;CN="BPSDM Prov Kalteng":MAILTO:info@bpsdmprovkalteng.id
END:VEVENT
BEGIN:VEVENT
DTSTART;TZID=Asia/Jakarta:20200608T080000
DTEND;TZID=Asia/Jakarta:20201007T170000
DTSTAMP:20260421T093744
CREATED:20200223T125209Z
LAST-MODIFIED:20200223T125209Z
UID:5661-1591603200-1602090000@bpsdm.kalteng.go.id
SUMMARY:Pelatihan Kepemimpinan Pengawas (PKP) Angkatan I\, II dan III
DESCRIPTION:Sumber Pembiayaan APBD Murni / APBD Kontribusi : APBD Murni \nJumlah Peserta : 43 Orang \nPenanggung Jawab Kegiatan : Bidang Pengembangan Kompetensi Managerial \nRegistrasi Download Jadwal
URL:https://bpsdm.kalteng.go.id/event/pelatihan-kepemimpinan-pengawas-pkp-angkatan-i-ii-dan-iii/
LOCATION:BPSDM Prov Kalteng\, Jl. AIS Nasution\, Langkai\, Kec. Pahandut\, Palangka Raya\, Kalimantan Tengah\, Indonesia
CATEGORIES:Manajerial
ORGANIZER;CN="BPSDM Prov Kalteng":MAILTO:info@bpsdmprovkalteng.id
END:VEVENT
BEGIN:VEVENT
DTSTART;TZID=Asia/Jakarta:20200601T080000
DTEND;TZID=Asia/Jakarta:20200630T170000
DTSTAMP:20260421T093744
CREATED:20200223T125031Z
LAST-MODIFIED:20200223T125031Z
UID:5659-1590998400-1593536400@bpsdm.kalteng.go.id
SUMMARY:Diklat Teknis
DESCRIPTION:Sumber Pembiayaan APBD Murni / APBD Kontribusi : APBD Murni \nJumlah Peserta : 80 Orang \nPenanggung Jawab Kegiatan : Bidang Pengembangan Kompetensi Teknis Umum dan Fungsional \nRegistrasi Download Jadwal
URL:https://bpsdm.kalteng.go.id/event/diklat-teknis/
LOCATION:BPSDM Prov Kalteng\, Jl. AIS Nasution\, Langkai\, Kec. Pahandut\, Palangka Raya\, Kalimantan Tengah\, Indonesia
CATEGORIES:Teknis Umum dan Fungsional
ORGANIZER;CN="BPSDM Prov Kalteng":MAILTO:info@bpsdmprovkalteng.id
END:VEVENT
BEGIN:VEVENT
DTSTART;TZID=Asia/Jakarta:20200601T080000
DTEND;TZID=Asia/Jakarta:20200630T170000
DTSTAMP:20260421T093744
CREATED:20200223T124841Z
LAST-MODIFIED:20200223T124841Z
UID:5657-1590998400-1593536400@bpsdm.kalteng.go.id
SUMMARY:Workshop Inovasi
DESCRIPTION:Sumber Pembiayaan APBD Murni / APBD Kontribusi : APBD Murni \nJumlah Peserta : 40 Orang \nPenanggung Jawab Kegiatan : Bidang Sertifikasi Kompetenssi dan Pengelolaan Kelembagaan \nRegistrasi Download Jadwal
URL:https://bpsdm.kalteng.go.id/event/workshop-inovasi/
LOCATION:BPSDM Prov Kalteng\, Jl. AIS Nasution\, Langkai\, Kec. Pahandut\, Palangka Raya\, Kalimantan Tengah\, Indonesia
CATEGORIES:Teknis Umum dan Fungsional
ORGANIZER;CN="BPSDM Prov Kalteng":MAILTO:info@bpsdmprovkalteng.id
END:VEVENT
BEGIN:VEVENT
DTSTART;TZID=Asia/Jakarta:20200601T080000
DTEND;TZID=Asia/Jakarta:20200630T170000
DTSTAMP:20260421T093744
CREATED:20200223T124740Z
LAST-MODIFIED:20200223T124740Z
UID:5655-1590998400-1593536400@bpsdm.kalteng.go.id
SUMMARY:Workshop PMPRB (Penilaian Mandiri Pelaksanaan Reformasi Birokrasi)
DESCRIPTION:Sumber Pembiayaan APBD Murni / APBD Kontribusi : APBD Murni \nJumlah Peserta : 60 Orang \nPenanggung Jawab Kegiatan : Bidang Sertifikasi Kompetenssi dan Pengelolaan Kelembagaan \nRegistrasi Download Jadwal
URL:https://bpsdm.kalteng.go.id/event/workshop-pmprb-penilaian-mandiri-pelaksanaan-reformasi-birokrasi/
LOCATION:BPSDM Prov Kalteng\, Jl. AIS Nasution\, Langkai\, Kec. Pahandut\, Palangka Raya\, Kalimantan Tengah\, Indonesia
CATEGORIES:Teknis Umum dan Fungsional
ORGANIZER;CN="BPSDM Prov Kalteng":MAILTO:info@bpsdmprovkalteng.id
END:VEVENT
BEGIN:VEVENT
DTSTART;TZID=Asia/Jakarta:20200420T080000
DTEND;TZID=Asia/Jakarta:20200420T170000
DTSTAMP:20260421T093744
CREATED:20200223T123114Z
LAST-MODIFIED:20200223T131843Z
UID:5642-1587369600-1587402000@bpsdm.kalteng.go.id
SUMMARY:Uji Kompetensi dan Sertifikasi
DESCRIPTION:Sumber Pembiayaan APBD Murni / APBD Kontribusi : APBD Murni \nJumlah Peserta : 43 Orang \nPenanggung Jawab Kegiatan : Bidang Sertifikasi Kompetensi dan Pengelolaan Kelembagaan \nRegistrasi Download Jadwal
URL:https://bpsdm.kalteng.go.id/event/uji-kompetensi-dan-sertifikasi/
LOCATION:BPSDM Prov Kalteng\, Jl. AIS Nasution\, Langkai\, Kec. Pahandut\, Palangka Raya\, Kalimantan Tengah\, Indonesia
CATEGORIES:Kompetensi
ORGANIZER;CN="BPSDM Prov Kalteng":MAILTO:info@bpsdmprovkalteng.id
END:VEVENT
BEGIN:VEVENT
DTSTART;TZID=Asia/Jakarta:20200413T080000
DTEND;TZID=Asia/Jakarta:20200417T170000
DTSTAMP:20260421T093744
CREATED:20200223T124547Z
LAST-MODIFIED:20200223T124609Z
UID:5652-1586764800-1587142800@bpsdm.kalteng.go.id
SUMMARY:Diklat Revolusi Mental
DESCRIPTION:Sumber Pembiayaan APBD Murni / APBD Kontribusi : APBD Murni \nJumlah Peserta : 40 Orang \nPenanggung Jawab Kegiatan : Bidang Pengembangan Kompetensi Teknis Inti \nRegistrasi Download Jadwal
URL:https://bpsdm.kalteng.go.id/event/diklat-revolusi-mental/
LOCATION:BPSDM Prov Kalteng\, Jl. AIS Nasution\, Langkai\, Kec. Pahandut\, Palangka Raya\, Kalimantan Tengah\, Indonesia
CATEGORIES:Teknis Inti
ORGANIZER;CN="BPSDM Prov Kalteng":MAILTO:info@bpsdmprovkalteng.id
END:VEVENT
BEGIN:VEVENT
DTSTART;TZID=Asia/Jakarta:20200406T080000
DTEND;TZID=Asia/Jakarta:20200803T170000
DTSTAMP:20260421T093744
CREATED:20200223T124415Z
LAST-MODIFIED:20200223T132006Z
UID:5650-1586160000-1596474000@bpsdm.kalteng.go.id
SUMMARY:Pelatihan Kepemimpinan Administrator (PKA) Angkatan I dan II
DESCRIPTION:Sumber Pembiayaan APBD Murni / APBD Kontribusi : APBD Kontribusi \nJumlah Peserta : 80 Orang \nPenanggung Jawab Kegiatan : Bidang Pengembangan Kompetensi Managerial \nRegistrasi Download Jadwal
URL:https://bpsdm.kalteng.go.id/event/pelatihan-kepemimpinan-administrator-pka-angkatan-i-dan-ii/
LOCATION:BPSDM Prov Kalteng\, Jl. AIS Nasution\, Langkai\, Kec. Pahandut\, Palangka Raya\, Kalimantan Tengah\, Indonesia
CATEGORIES:Manajerial
ORGANIZER;CN="BPSDM Prov Kalteng":MAILTO:info@bpsdmprovkalteng.id
END:VEVENT
BEGIN:VEVENT
DTSTART;TZID=Asia/Jakarta:20200309T080000
DTEND;TZID=Asia/Jakarta:20200511T170000
DTSTAMP:20260421T093744
CREATED:20200220T151500Z
LAST-MODIFIED:20200223T131608Z
UID:5557-1583740800-1589216400@bpsdm.kalteng.go.id
SUMMARY:PELATIHAN DASAR CPNS GOLONGAN III ANGKATAN VII
DESCRIPTION:Sumber Pembiayaan APBD Murni / APBD Kontribusi : APBD Kontribusi \nJumlah Peserta : 74 Orang \nPenanggung Jawab Kegiatan : Bidang Pengembangan Kompetensi Managerial \nRegistrasi Download Jadwal
URL:https://bpsdm.kalteng.go.id/event/pelatihan-dasar-cpns-golongan-iii-angkatan-vii/
LOCATION:BPSDM Prov Kalteng\, Jl. AIS Nasution\, Langkai\, Kec. Pahandut\, Palangka Raya\, Kalimantan Tengah\, Indonesia
CATEGORIES:Manajerial
ORGANIZER;CN="BPSDM Prov Kalteng":MAILTO:info@bpsdmprovkalteng.id
END:VEVENT
BEGIN:VEVENT
DTSTART;TZID=Asia/Jakarta:20200309T080000
DTEND;TZID=Asia/Jakarta:20200313T170000
DTSTAMP:20260421T093744
CREATED:20200218T164400Z
LAST-MODIFIED:20200223T134140Z
UID:5538-1583740800-1584118800@bpsdm.kalteng.go.id
SUMMARY:Diklat Administrasi Kearsipan
DESCRIPTION:Sumber Pembiayaan APBD Murni / APBD Kontribusi : APBD Murni \nJumlah Peserta : 40 Orang \nPenanggung Jawab Kegiatan : Bidang Pengembangan Kompetensi Teknis Inti \nRegistrasi Download Jadwal
URL:https://bpsdm.kalteng.go.id/event/diklat-administrasi-kearsipan/
LOCATION:BPSDM Prov Kalteng\, Jl. AIS Nasution\, Langkai\, Kec. Pahandut\, Palangka Raya\, Kalimantan Tengah\, Indonesia
CATEGORIES:Teknis Inti
ORGANIZER;CN="BPSDM Prov Kalteng":MAILTO:info@bpsdmprovkalteng.id
END:VEVENT
END:VCALENDAR